BEGIN:VCALENDAR
VERSION:2.0
PRODID:icalendar-ruby
CALSCALE:GREGORIAN
METHOD:PUBLISH
BEGIN:VEVENT
DTSTAMP:20260420T143848Z
UID:11-273975@centralpoint.tithelysetup5.com
DTSTART:20260823T143000Z
DTEND:20260823T160000Z
CLASS:PUBLIC
CREATED:20260420T082629
DESCRIPTION:
LAST-MODIFIED:20260420T082629
LOCATION:
SUMMARY:Worship
URL;VALUE=URI:https://centralpoint.tithelysetup5.com/events/worship/2026-08
 -23
ATTACH;FILENAME=CPCWorship.jpg;FMTTYPE=image/jpeg:https://dq5pwpg1q8ru0.clo
 udfront.net/2025/11/20/15/49/02/5bec0f6e-98f4-4646-9401-fbf79a0cc6a2/CPCWo
 rship.jpg
END:VEVENT
END:VCALENDAR
